BEGIN:VCALENDAR
VERSION:2.0
PRODID:-//Prosper Portland - ECPv6.15.20//NONSGML v1.0//EN
CALSCALE:GREGORIAN
METHOD:PUBLISH
X-WR-CALNAME:Prosper Portland
X-ORIGINAL-URL:https://prosperportland.us
X-WR-CALDESC:Events for Prosper Portland
REFRESH-INTERVAL;VALUE=DURATION:PT1H
X-Robots-Tag:noindex
X-PUBLISHED-TTL:PT1H
BEGIN:VTIMEZONE
TZID:America/Los_Angeles
BEGIN:DAYLIGHT
TZOFFSETFROM:-0800
TZOFFSETTO:-0700
TZNAME:PDT
DTSTART:20250309T100000
END:DAYLIGHT
BEGIN:STANDARD
TZOFFSETFROM:-0700
TZOFFSETTO:-0800
TZNAME:PST
DTSTART:20251102T090000
END:STANDARD
BEGIN:DAYLIGHT
TZOFFSETFROM:-0800
TZOFFSETTO:-0700
TZNAME:PDT
DTSTART:20260308T100000
END:DAYLIGHT
BEGIN:STANDARD
TZOFFSETFROM:-0700
TZOFFSETTO:-0800
TZNAME:PST
DTSTART:20261101T090000
END:STANDARD
BEGIN:DAYLIGHT
TZOFFSETFROM:-0800
TZOFFSETTO:-0700
TZNAME:PDT
DTSTART:20270314T100000
END:DAYLIGHT
BEGIN:STANDARD
TZOFFSETFROM:-0700
TZOFFSETTO:-0800
TZNAME:PST
DTSTART:20271107T090000
END:STANDARD
BEGIN:DAYLIGHT
TZOFFSETFROM:-0800
TZOFFSETTO:-0700
TZNAME:PDT
DTSTART:20280312T100000
END:DAYLIGHT
BEGIN:STANDARD
TZOFFSETFROM:-0700
TZOFFSETTO:-0800
TZNAME:PST
DTSTART:20281105T090000
END:STANDARD
END:VTIMEZONE
BEGIN:VEVENT
DTSTART;TZID=America/Los_Angeles:20260520T180000
DTEND;TZID=America/Los_Angeles:20260520T200000
DTSTAMP:20260425T070248
CREATED:20260421T201741Z
LAST-MODIFIED:20260421T214127Z
UID:10000473-1779300000-1779307200@prosperportland.us
SUMMARY:82nd Ave CLC Meeting
DESCRIPTION:82nd Ave Area TIF District: Community Leadership Committee Meeting   \nMeeting Date: Third Wednesday of each month \nIn-Person Location: APANO\, 8188 SE Division St\, Portland\, OR 97206  \nJoin Online (Zoom): https://us06web.zoom.us/j/84844137435?pwd=nL7GrC9fhsxtBhbtUDM1nzMmyHNyhG.1   \nThe monthly meeting of the 82nd Avenue Area Tax Increment Financing (TIF) District Community Leadership Committee.   \nThe public is welcome to attend and provide public comment in person\, or virtually on Zoom.  \nThe tentative agenda will be released two days prior to the meeting.  \nFive-Year Action Plan Status\n\n\n\n\n	Action Planning StepStatus\n\n\n\n\n	Project & Committee KickoffCompleted\n\n\n	Committee Bylaws & AdministrationCompleted\n\n\n	District ContextCompleted\n\n\n	Public Engagement PlanningCurrent\n\n\n	Affordable Housing Priorities & AllocationsUpcoming\n\n\n	Economic & Urban Development Priorities & AllocationsUpcoming\n\n\n	Action Plan Draft Development & RefinementUpcoming\n\n\n	Committee Vote on Action PlanUpcoming\n\n\n	Legislative Adoption ProcessUpcoming\n\n\n	Plan AdoptedUpcoming
URL:https://prosperportland.us/event/82nd-ave-clc-may-2026/
LOCATION:APANO\, 8188 SE Division St\, Portland\, OR\, 97206\, United States
CATEGORIES:82nd Ave TIF District,Event
ATTACH;FMTTYPE=image/jpeg:https://prosperportland.us/wp-content/uploads/2025/07/Fubonn-82nd-Ave.jpg
END:VEVENT
BEGIN:VEVENT
DTSTART;TZID=America/Los_Angeles:20260617T180000
DTEND;TZID=America/Los_Angeles:20260617T200000
DTSTAMP:20260425T070248
CREATED:20260421T201832Z
LAST-MODIFIED:20260421T214320Z
UID:10000474-1781719200-1781726400@prosperportland.us
SUMMARY:82nd Ave CLC Meeting
DESCRIPTION:82nd Ave Area TIF District: Community Leadership Committee Meeting   \nMeeting Date: Third Wednesday of each month \nIn-Person Location: APANO\, 8188 SE Division St\, Portland\, OR 97206  \nJoin Online (Zoom): https://us06web.zoom.us/j/84844137435?pwd=nL7GrC9fhsxtBhbtUDM1nzMmyHNyhG.1   \nThe monthly meeting of the 82nd Avenue Area Tax Increment Financing (TIF) District Community Leadership Committee.   \nThe public is welcome to attend and provide public comment in person\, or virtually on Zoom.  \nThe tentative agenda will be released two days prior to the meeting.  \nFive-Year Action Plan Status\n\n\n\n\n	Action Planning StepStatus\n\n\n\n\n	Project & Committee KickoffCompleted\n\n\n	Committee Bylaws & AdministrationCompleted\n\n\n	District ContextCompleted\n\n\n	Public Engagement PlanningCurrent\n\n\n	Affordable Housing Priorities & AllocationsUpcoming\n\n\n	Economic & Urban Development Priorities & AllocationsUpcoming\n\n\n	Action Plan Draft Development & RefinementUpcoming\n\n\n	Committee Vote on Action PlanUpcoming\n\n\n	Legislative Adoption ProcessUpcoming\n\n\n	Plan AdoptedUpcoming
URL:https://prosperportland.us/event/82nd-ave-clc-june-2026/
LOCATION:APANO\, 8188 SE Division St\, Portland\, OR\, 97206\, United States
CATEGORIES:82nd Ave TIF District,Event
ATTACH;FMTTYPE=image/jpeg:https://prosperportland.us/wp-content/uploads/2025/07/Fubonn-82nd-Ave.jpg
END:VEVENT
BEGIN:VEVENT
DTSTART;TZID=America/Los_Angeles:20260715T180000
DTEND;TZID=America/Los_Angeles:20260715T200000
DTSTAMP:20260425T070248
CREATED:20260421T201906Z
LAST-MODIFIED:20260421T214512Z
UID:10000475-1784138400-1784145600@prosperportland.us
SUMMARY:82nd Ave CLC Meeting
DESCRIPTION:82nd Ave Area TIF District: Community Leadership Committee Meeting   \nMeeting Date: Third Wednesday of each month \nIn-Person Location: APANO\, 8188 SE Division St\, Portland\, OR 97206  \nJoin Online (Zoom): https://us06web.zoom.us/j/84844137435?pwd=nL7GrC9fhsxtBhbtUDM1nzMmyHNyhG.1   \nThe monthly meeting of the 82nd Avenue Area Tax Increment Financing (TIF) District Community Leadership Committee.   \nThe public is welcome to attend and provide public comment in person\, or virtually on Zoom.  \nThe tentative agenda will be released two days prior to the meeting.  \nFive-Year Action Plan Status\n\n\n\n\n	Action Planning StepStatus\n\n\n\n\n	Project & Committee KickoffCompleted\n\n\n	Committee Bylaws & AdministrationCompleted\n\n\n	District ContextCompleted\n\n\n	Public Engagement PlanningCurrent\n\n\n	Affordable Housing Priorities & AllocationsUpcoming\n\n\n	Economic & Urban Development Priorities & AllocationsUpcoming\n\n\n	Action Plan Draft Development & RefinementUpcoming\n\n\n	Committee Vote on Action PlanUpcoming\n\n\n	Legislative Adoption ProcessUpcoming\n\n\n	Plan AdoptedUpcoming
URL:https://prosperportland.us/event/82nd-ave-clc-july-2026/
LOCATION:APANO\, 8188 SE Division St\, Portland\, OR\, 97206\, United States
CATEGORIES:82nd Ave TIF District,Event
ATTACH;FMTTYPE=image/jpeg:https://prosperportland.us/wp-content/uploads/2025/07/Fubonn-82nd-Ave.jpg
END:VEVENT
BEGIN:VEVENT
DTSTART;TZID=America/Los_Angeles:20260819T180000
DTEND;TZID=America/Los_Angeles:20260819T200000
DTSTAMP:20260425T070248
CREATED:20260421T201933Z
LAST-MODIFIED:20260421T214658Z
UID:10000476-1787162400-1787169600@prosperportland.us
SUMMARY:82nd Ave CLC Meeting
DESCRIPTION:82nd Ave Area TIF District: Community Leadership Committee Meeting   \nMeeting Date: Third Wednesday of each month \nIn-Person Location: APANO\, 8188 SE Division St\, Portland\, OR 97206  \nJoin Online (Zoom): https://us06web.zoom.us/j/84844137435?pwd=nL7GrC9fhsxtBhbtUDM1nzMmyHNyhG.1   \nThe monthly meeting of the 82nd Avenue Area Tax Increment Financing (TIF) District Community Leadership Committee.   \nThe public is welcome to attend and provide public comment in person\, or virtually on Zoom.  \nThe tentative agenda will be released two days prior to the meeting.  \nFive-Year Action Plan Status\n\n\n\n\n	Action Planning StepStatus\n\n\n\n\n	Project & Committee KickoffCompleted\n\n\n	Committee Bylaws & AdministrationCompleted\n\n\n	District ContextCompleted\n\n\n	Public Engagement PlanningCurrent\n\n\n	Affordable Housing Priorities & AllocationsUpcoming\n\n\n	Economic & Urban Development Priorities & AllocationsUpcoming\n\n\n	Action Plan Draft Development & RefinementUpcoming\n\n\n	Committee Vote on Action PlanUpcoming\n\n\n	Legislative Adoption ProcessUpcoming\n\n\n	Plan AdoptedUpcoming
URL:https://prosperportland.us/event/82nd-ave-clc-august-2026/
LOCATION:APANO\, 8188 SE Division St\, Portland\, OR\, 97206\, United States
CATEGORIES:82nd Ave TIF District,Event
ATTACH;FMTTYPE=image/jpeg:https://prosperportland.us/wp-content/uploads/2025/07/Fubonn-82nd-Ave.jpg
END:VEVENT
BEGIN:VEVENT
DTSTART;TZID=America/Los_Angeles:20260916T180000
DTEND;TZID=America/Los_Angeles:20260916T200000
DTSTAMP:20260425T070248
CREATED:20260421T202011Z
LAST-MODIFIED:20260421T214730Z
UID:10000477-1789581600-1789588800@prosperportland.us
SUMMARY:82nd Ave CLC Meeting
DESCRIPTION:82nd Ave Area TIF District: Community Leadership Committee Meeting   \nMeeting Date: Third Wednesday of each month \nIn-Person Location: APANO\, 8188 SE Division St\, Portland\, OR 97206  \nJoin Online (Zoom): https://us06web.zoom.us/j/84844137435?pwd=nL7GrC9fhsxtBhbtUDM1nzMmyHNyhG.1   \nThe monthly meeting of the 82nd Avenue Area Tax Increment Financing (TIF) District Community Leadership Committee.   \nThe public is welcome to attend and provide public comment in person\, or virtually on Zoom.  \nThe tentative agenda will be released two days prior to the meeting.  \nFive-Year Action Plan Status\n\n\n\n\n	Action Planning StepStatus\n\n\n\n\n	Project & Committee KickoffCompleted\n\n\n	Committee Bylaws & AdministrationCompleted\n\n\n	District ContextCompleted\n\n\n	Public Engagement PlanningCurrent\n\n\n	Affordable Housing Priorities & AllocationsUpcoming\n\n\n	Economic & Urban Development Priorities & AllocationsUpcoming\n\n\n	Action Plan Draft Development & RefinementUpcoming\n\n\n	Committee Vote on Action PlanUpcoming\n\n\n	Legislative Adoption ProcessUpcoming\n\n\n	Plan AdoptedUpcoming
URL:https://prosperportland.us/event/82nd-ave-clc-september-2026/
LOCATION:APANO\, 8188 SE Division St\, Portland\, OR\, 97206\, United States
CATEGORIES:82nd Ave TIF District,Event
ATTACH;FMTTYPE=image/jpeg:https://prosperportland.us/wp-content/uploads/2025/07/Fubonn-82nd-Ave.jpg
END:VEVENT
BEGIN:VEVENT
DTSTART;TZID=America/Los_Angeles:20261021T180000
DTEND;TZID=America/Los_Angeles:20261021T200000
DTSTAMP:20260425T070248
CREATED:20260421T201631Z
LAST-MODIFIED:20260421T214840Z
UID:10000478-1792605600-1792612800@prosperportland.us
SUMMARY:82nd Ave CLC Meeting
DESCRIPTION:82nd Ave Area TIF District: Community Leadership Committee Meeting   \nMeeting Date: Third Wednesday of each month \nIn-Person Location: APANO\, 8188 SE Division St\, Portland\, OR 97206  \nJoin Online (Zoom): https://us06web.zoom.us/j/84844137435?pwd=nL7GrC9fhsxtBhbtUDM1nzMmyHNyhG.1   \nThe monthly meeting of the 82nd Avenue Area Tax Increment Financing (TIF) District Community Leadership Committee.   \nThe public is welcome to attend and provide public comment in person\, or virtually on Zoom.  \nThe tentative agenda will be released two days prior to the meeting.  \nFive-Year Action Plan Status\n\n\n\n\n	Action Planning StepStatus\n\n\n\n\n	Project & Committee KickoffCompleted\n\n\n	Committee Bylaws & AdministrationCompleted\n\n\n	District ContextCompleted\n\n\n	Public Engagement PlanningCurrent\n\n\n	Affordable Housing Priorities & AllocationsUpcoming\n\n\n	Economic & Urban Development Priorities & AllocationsUpcoming\n\n\n	Action Plan Draft Development & RefinementUpcoming\n\n\n	Committee Vote on Action PlanUpcoming\n\n\n	Legislative Adoption ProcessUpcoming\n\n\n	Plan AdoptedUpcoming
URL:https://prosperportland.us/event/82nd-ave-clc/2026-10-21/
LOCATION:APANO\, 8188 SE Division St\, Portland\, OR\, 97206\, United States
CATEGORIES:82nd Ave TIF District,Event
ATTACH;FMTTYPE=image/jpeg:https://prosperportland.us/wp-content/uploads/2025/07/Fubonn-82nd-Ave.jpg
END:VEVENT
BEGIN:VEVENT
DTSTART;TZID=America/Los_Angeles:20261118T180000
DTEND;TZID=America/Los_Angeles:20261118T200000
DTSTAMP:20260425T070248
CREATED:20260421T201631Z
LAST-MODIFIED:20260421T214840Z
UID:10000479-1795024800-1795032000@prosperportland.us
SUMMARY:82nd Ave CLC Meeting
DESCRIPTION:82nd Ave Area TIF District: Community Leadership Committee Meeting   \nMeeting Date: Third Wednesday of each month \nIn-Person Location: APANO\, 8188 SE Division St\, Portland\, OR 97206  \nJoin Online (Zoom): https://us06web.zoom.us/j/84844137435?pwd=nL7GrC9fhsxtBhbtUDM1nzMmyHNyhG.1   \nThe monthly meeting of the 82nd Avenue Area Tax Increment Financing (TIF) District Community Leadership Committee.   \nThe public is welcome to attend and provide public comment in person\, or virtually on Zoom.  \nThe tentative agenda will be released two days prior to the meeting.  \nFive-Year Action Plan Status\n\n\n\n\n	Action Planning StepStatus\n\n\n\n\n	Project & Committee KickoffCompleted\n\n\n	Committee Bylaws & AdministrationCompleted\n\n\n	District ContextCompleted\n\n\n	Public Engagement PlanningCurrent\n\n\n	Affordable Housing Priorities & AllocationsUpcoming\n\n\n	Economic & Urban Development Priorities & AllocationsUpcoming\n\n\n	Action Plan Draft Development & RefinementUpcoming\n\n\n	Committee Vote on Action PlanUpcoming\n\n\n	Legislative Adoption ProcessUpcoming\n\n\n	Plan AdoptedUpcoming
URL:https://prosperportland.us/event/82nd-ave-clc/2026-11-18/
LOCATION:APANO\, 8188 SE Division St\, Portland\, OR\, 97206\, United States
CATEGORIES:82nd Ave TIF District,Event
ATTACH;FMTTYPE=image/jpeg:https://prosperportland.us/wp-content/uploads/2025/07/Fubonn-82nd-Ave.jpg
END:VEVENT
BEGIN:VEVENT
DTSTART;TZID=America/Los_Angeles:20261216T180000
DTEND;TZID=America/Los_Angeles:20261216T200000
DTSTAMP:20260425T070248
CREATED:20260421T201631Z
LAST-MODIFIED:20260421T214840Z
UID:10000480-1797444000-1797451200@prosperportland.us
SUMMARY:82nd Ave CLC Meeting
DESCRIPTION:82nd Ave Area TIF District: Community Leadership Committee Meeting   \nMeeting Date: Third Wednesday of each month \nIn-Person Location: APANO\, 8188 SE Division St\, Portland\, OR 97206  \nJoin Online (Zoom): https://us06web.zoom.us/j/84844137435?pwd=nL7GrC9fhsxtBhbtUDM1nzMmyHNyhG.1   \nThe monthly meeting of the 82nd Avenue Area Tax Increment Financing (TIF) District Community Leadership Committee.   \nThe public is welcome to attend and provide public comment in person\, or virtually on Zoom.  \nThe tentative agenda will be released two days prior to the meeting.  \nFive-Year Action Plan Status\n\n\n\n\n	Action Planning StepStatus\n\n\n\n\n	Project & Committee KickoffCompleted\n\n\n	Committee Bylaws & AdministrationCompleted\n\n\n	District ContextCompleted\n\n\n	Public Engagement PlanningCurrent\n\n\n	Affordable Housing Priorities & AllocationsUpcoming\n\n\n	Economic & Urban Development Priorities & AllocationsUpcoming\n\n\n	Action Plan Draft Development & RefinementUpcoming\n\n\n	Committee Vote on Action PlanUpcoming\n\n\n	Legislative Adoption ProcessUpcoming\n\n\n	Plan AdoptedUpcoming
URL:https://prosperportland.us/event/82nd-ave-clc/2026-12-16/
LOCATION:APANO\, 8188 SE Division St\, Portland\, OR\, 97206\, United States
CATEGORIES:82nd Ave TIF District,Event
ATTACH;FMTTYPE=image/jpeg:https://prosperportland.us/wp-content/uploads/2025/07/Fubonn-82nd-Ave.jpg
END:VEVENT
BEGIN:VEVENT
DTSTART;TZID=America/Los_Angeles:20270120T180000
DTEND;TZID=America/Los_Angeles:20270120T200000
DTSTAMP:20260425T070248
CREATED:20260421T201631Z
LAST-MODIFIED:20260421T214840Z
UID:10000481-1800468000-1800475200@prosperportland.us
SUMMARY:82nd Ave CLC Meeting
DESCRIPTION:82nd Ave Area TIF District: Community Leadership Committee Meeting   \nMeeting Date: Third Wednesday of each month \nIn-Person Location: APANO\, 8188 SE Division St\, Portland\, OR 97206  \nJoin Online (Zoom): https://us06web.zoom.us/j/84844137435?pwd=nL7GrC9fhsxtBhbtUDM1nzMmyHNyhG.1   \nThe monthly meeting of the 82nd Avenue Area Tax Increment Financing (TIF) District Community Leadership Committee.   \nThe public is welcome to attend and provide public comment in person\, or virtually on Zoom.  \nThe tentative agenda will be released two days prior to the meeting.  \nFive-Year Action Plan Status\n\n\n\n\n	Action Planning StepStatus\n\n\n\n\n	Project & Committee KickoffCompleted\n\n\n	Committee Bylaws & AdministrationCompleted\n\n\n	District ContextCompleted\n\n\n	Public Engagement PlanningCurrent\n\n\n	Affordable Housing Priorities & AllocationsUpcoming\n\n\n	Economic & Urban Development Priorities & AllocationsUpcoming\n\n\n	Action Plan Draft Development & RefinementUpcoming\n\n\n	Committee Vote on Action PlanUpcoming\n\n\n	Legislative Adoption ProcessUpcoming\n\n\n	Plan AdoptedUpcoming
URL:https://prosperportland.us/event/82nd-ave-clc/2027-01-20/
LOCATION:APANO\, 8188 SE Division St\, Portland\, OR\, 97206\, United States
CATEGORIES:82nd Ave TIF District,Event
ATTACH;FMTTYPE=image/jpeg:https://prosperportland.us/wp-content/uploads/2025/07/Fubonn-82nd-Ave.jpg
END:VEVENT
BEGIN:VEVENT
DTSTART;TZID=America/Los_Angeles:20270217T180000
DTEND;TZID=America/Los_Angeles:20270217T200000
DTSTAMP:20260425T070248
CREATED:20260421T201631Z
LAST-MODIFIED:20260421T214840Z
UID:10000482-1802887200-1802894400@prosperportland.us
SUMMARY:82nd Ave CLC Meeting
DESCRIPTION:82nd Ave Area TIF District: Community Leadership Committee Meeting   \nMeeting Date: Third Wednesday of each month \nIn-Person Location: APANO\, 8188 SE Division St\, Portland\, OR 97206  \nJoin Online (Zoom): https://us06web.zoom.us/j/84844137435?pwd=nL7GrC9fhsxtBhbtUDM1nzMmyHNyhG.1   \nThe monthly meeting of the 82nd Avenue Area Tax Increment Financing (TIF) District Community Leadership Committee.   \nThe public is welcome to attend and provide public comment in person\, or virtually on Zoom.  \nThe tentative agenda will be released two days prior to the meeting.  \nFive-Year Action Plan Status\n\n\n\n\n	Action Planning StepStatus\n\n\n\n\n	Project & Committee KickoffCompleted\n\n\n	Committee Bylaws & AdministrationCompleted\n\n\n	District ContextCompleted\n\n\n	Public Engagement PlanningCurrent\n\n\n	Affordable Housing Priorities & AllocationsUpcoming\n\n\n	Economic & Urban Development Priorities & AllocationsUpcoming\n\n\n	Action Plan Draft Development & RefinementUpcoming\n\n\n	Committee Vote on Action PlanUpcoming\n\n\n	Legislative Adoption ProcessUpcoming\n\n\n	Plan AdoptedUpcoming
URL:https://prosperportland.us/event/82nd-ave-clc/2027-02-17/
LOCATION:APANO\, 8188 SE Division St\, Portland\, OR\, 97206\, United States
CATEGORIES:82nd Ave TIF District,Event
ATTACH;FMTTYPE=image/jpeg:https://prosperportland.us/wp-content/uploads/2025/07/Fubonn-82nd-Ave.jpg
END:VEVENT
BEGIN:VEVENT
DTSTART;TZID=America/Los_Angeles:20270317T180000
DTEND;TZID=America/Los_Angeles:20270317T200000
DTSTAMP:20260425T070248
CREATED:20260421T201631Z
LAST-MODIFIED:20260421T214840Z
UID:10000483-1805306400-1805313600@prosperportland.us
SUMMARY:82nd Ave CLC Meeting
DESCRIPTION:82nd Ave Area TIF District: Community Leadership Committee Meeting   \nMeeting Date: Third Wednesday of each month \nIn-Person Location: APANO\, 8188 SE Division St\, Portland\, OR 97206  \nJoin Online (Zoom): https://us06web.zoom.us/j/84844137435?pwd=nL7GrC9fhsxtBhbtUDM1nzMmyHNyhG.1   \nThe monthly meeting of the 82nd Avenue Area Tax Increment Financing (TIF) District Community Leadership Committee.   \nThe public is welcome to attend and provide public comment in person\, or virtually on Zoom.  \nThe tentative agenda will be released two days prior to the meeting.  \nFive-Year Action Plan Status\n\n\n\n\n	Action Planning StepStatus\n\n\n\n\n	Project & Committee KickoffCompleted\n\n\n	Committee Bylaws & AdministrationCompleted\n\n\n	District ContextCompleted\n\n\n	Public Engagement PlanningCurrent\n\n\n	Affordable Housing Priorities & AllocationsUpcoming\n\n\n	Economic & Urban Development Priorities & AllocationsUpcoming\n\n\n	Action Plan Draft Development & RefinementUpcoming\n\n\n	Committee Vote on Action PlanUpcoming\n\n\n	Legislative Adoption ProcessUpcoming\n\n\n	Plan AdoptedUpcoming
URL:https://prosperportland.us/event/82nd-ave-clc/2027-03-17/
LOCATION:APANO\, 8188 SE Division St\, Portland\, OR\, 97206\, United States
CATEGORIES:82nd Ave TIF District,Event
ATTACH;FMTTYPE=image/jpeg:https://prosperportland.us/wp-content/uploads/2025/07/Fubonn-82nd-Ave.jpg
END:VEVENT
BEGIN:VEVENT
DTSTART;TZID=America/Los_Angeles:20270421T180000
DTEND;TZID=America/Los_Angeles:20270421T200000
DTSTAMP:20260425T070248
CREATED:20260421T201631Z
LAST-MODIFIED:20260421T214840Z
UID:10000484-1808330400-1808337600@prosperportland.us
SUMMARY:82nd Ave CLC Meeting
DESCRIPTION:82nd Ave Area TIF District: Community Leadership Committee Meeting   \nMeeting Date: Third Wednesday of each month \nIn-Person Location: APANO\, 8188 SE Division St\, Portland\, OR 97206  \nJoin Online (Zoom): https://us06web.zoom.us/j/84844137435?pwd=nL7GrC9fhsxtBhbtUDM1nzMmyHNyhG.1   \nThe monthly meeting of the 82nd Avenue Area Tax Increment Financing (TIF) District Community Leadership Committee.   \nThe public is welcome to attend and provide public comment in person\, or virtually on Zoom.  \nThe tentative agenda will be released two days prior to the meeting.  \nFive-Year Action Plan Status\n\n\n\n\n	Action Planning StepStatus\n\n\n\n\n	Project & Committee KickoffCompleted\n\n\n	Committee Bylaws & AdministrationCompleted\n\n\n	District ContextCompleted\n\n\n	Public Engagement PlanningCurrent\n\n\n	Affordable Housing Priorities & AllocationsUpcoming\n\n\n	Economic & Urban Development Priorities & AllocationsUpcoming\n\n\n	Action Plan Draft Development & RefinementUpcoming\n\n\n	Committee Vote on Action PlanUpcoming\n\n\n	Legislative Adoption ProcessUpcoming\n\n\n	Plan AdoptedUpcoming
URL:https://prosperportland.us/event/82nd-ave-clc/2027-04-21/
LOCATION:APANO\, 8188 SE Division St\, Portland\, OR\, 97206\, United States
CATEGORIES:82nd Ave TIF District,Event
ATTACH;FMTTYPE=image/jpeg:https://prosperportland.us/wp-content/uploads/2025/07/Fubonn-82nd-Ave.jpg
END:VEVENT
BEGIN:VEVENT
DTSTART;TZID=America/Los_Angeles:20270519T180000
DTEND;TZID=America/Los_Angeles:20270519T200000
DTSTAMP:20260425T070248
CREATED:20260421T201631Z
LAST-MODIFIED:20260421T214840Z
UID:10000485-1810749600-1810756800@prosperportland.us
SUMMARY:82nd Ave CLC Meeting
DESCRIPTION:82nd Ave Area TIF District: Community Leadership Committee Meeting   \nMeeting Date: Third Wednesday of each month \nIn-Person Location: APANO\, 8188 SE Division St\, Portland\, OR 97206  \nJoin Online (Zoom): https://us06web.zoom.us/j/84844137435?pwd=nL7GrC9fhsxtBhbtUDM1nzMmyHNyhG.1   \nThe monthly meeting of the 82nd Avenue Area Tax Increment Financing (TIF) District Community Leadership Committee.   \nThe public is welcome to attend and provide public comment in person\, or virtually on Zoom.  \nThe tentative agenda will be released two days prior to the meeting.  \nFive-Year Action Plan Status\n\n\n\n\n	Action Planning StepStatus\n\n\n\n\n	Project & Committee KickoffCompleted\n\n\n	Committee Bylaws & AdministrationCompleted\n\n\n	District ContextCompleted\n\n\n	Public Engagement PlanningCurrent\n\n\n	Affordable Housing Priorities & AllocationsUpcoming\n\n\n	Economic & Urban Development Priorities & AllocationsUpcoming\n\n\n	Action Plan Draft Development & RefinementUpcoming\n\n\n	Committee Vote on Action PlanUpcoming\n\n\n	Legislative Adoption ProcessUpcoming\n\n\n	Plan AdoptedUpcoming
URL:https://prosperportland.us/event/82nd-ave-clc/2027-05-19/
LOCATION:APANO\, 8188 SE Division St\, Portland\, OR\, 97206\, United States
CATEGORIES:82nd Ave TIF District,Event
ATTACH;FMTTYPE=image/jpeg:https://prosperportland.us/wp-content/uploads/2025/07/Fubonn-82nd-Ave.jpg
END:VEVENT
END:VCALENDAR