BEGIN:VCALENDAR
VERSION:2.0
PRODID:-//Prosper Portland - ECPv6.15.20//NONSGML v1.0//EN
CALSCALE:GREGORIAN
METHOD:PUBLISH
X-WR-CALNAME:Prosper Portland
X-ORIGINAL-URL:https://prosperportland.us
X-WR-CALDESC:Events for Prosper Portland
REFRESH-INTERVAL;VALUE=DURATION:PT1H
X-Robots-Tag:noindex
X-PUBLISHED-TTL:PT1H
BEGIN:VTIMEZONE
TZID:America/Los_Angeles
BEGIN:DAYLIGHT
TZOFFSETFROM:-0800
TZOFFSETTO:-0700
TZNAME:PDT
DTSTART:20250309T100000
END:DAYLIGHT
BEGIN:STANDARD
TZOFFSETFROM:-0700
TZOFFSETTO:-0800
TZNAME:PST
DTSTART:20251102T090000
END:STANDARD
BEGIN:DAYLIGHT
TZOFFSETFROM:-0800
TZOFFSETTO:-0700
TZNAME:PDT
DTSTART:20260308T100000
END:DAYLIGHT
BEGIN:STANDARD
TZOFFSETFROM:-0700
TZOFFSETTO:-0800
TZNAME:PST
DTSTART:20261101T090000
END:STANDARD
BEGIN:DAYLIGHT
TZOFFSETFROM:-0800
TZOFFSETTO:-0700
TZNAME:PDT
DTSTART:20270314T100000
END:DAYLIGHT
BEGIN:STANDARD
TZOFFSETFROM:-0700
TZOFFSETTO:-0800
TZNAME:PST
DTSTART:20271107T090000
END:STANDARD
END:VTIMEZONE
BEGIN:VEVENT
DTSTART;TZID=America/Los_Angeles:20260427T170000
DTEND;TZID=America/Los_Angeles:20260427T190000
DTSTAMP:20260425T080801
CREATED:20260424T204119Z
LAST-MODIFIED:20260424T204119Z
UID:10000500-1777309200-1777316400@prosperportland.us
SUMMARY:East 205 CLC Bylaws Subcommittee
DESCRIPTION:East 205 TIF District: CLC Bylaws Subcommittee Meeting   \nDate:  April 27\, 2026   \nIn-Person Location: Prosper Portland Office\, 220 NW 2nd Ave\, #200\, Portland\, OR 97209   \nJoin Online (Zoom):  https://us06web.zoom.us/j/82585759615?pwd=aJnG3HK7F3lmEiMbu9J5mx5nebik1F.1   \nThis is a subcommittee meeting convened to discuss East 205’s CLC Bylaws.   \nThe public is welcome to attend and provide public comment in person\, or virtually on Zoom.   \nThe tentative agenda is below:   \n\nWelcome!  \nRoll Call \nBylaws \nPublic Comment   \nCloseout & Next Steps   \n\nThe City of Portland and Prosper Portland are committed to providing meaningful access.    \nTo request translation\, interpretation\, modifications\, accommodations\, childcare\, or other auxiliary aids or services\, contact eastportlandtif@prosperportland.us.  \nQuestions regarding East 205 TIF: Anielis Raas at raasa@prosperportland.us\, Raul Preciado Mendez at raul.preciadomendez@portlandoregon.gov    \nGeneral East Portland TIF: EastPortlandTIF@prosperportland.us   
URL:https://prosperportland.us/event/east-205-clc-bylaws-subcommittee/
LOCATION:Prosper Portland & Zoom
CATEGORIES:East 205 TIF District,Event
ATTACH;FMTTYPE=image/jpeg:https://prosperportland.us/wp-content/uploads/2025/07/East-205-Division-Center.jpg
END:VEVENT
BEGIN:VEVENT
DTSTART;TZID=America/Los_Angeles:20260430T170000
DTEND;TZID=America/Los_Angeles:20260430T190000
DTSTAMP:20260425T080801
CREATED:20260424T204530Z
LAST-MODIFIED:20260424T204530Z
UID:10000501-1777568400-1777575600@prosperportland.us
SUMMARY:East 205 CLC Bylaws Subcommittee
DESCRIPTION:East 205 TIF District: CLC Bylaws Subcommittee Meeting   \nDate:  April 30\, 2026   \nIn-Person Location: Prosper Portland Office\, 220 NW 2nd Ave\, #200\, Portland\, OR 97209   \nJoin Online (Zoom):  https://us06web.zoom.us/j/81805410374?pwd=bZxj0caWk5uwMCMTvrNfhjBdXOt8ct.1   \nThis is a subcommittee meeting convened to discuss East 205’s CLC Bylaws.   \nThe public is welcome to attend and provide public comment in person\, or virtually on Zoom.   \nThe tentative agenda is below:   \n\nWelcome!  \nRoll Call \nBylaws  \nPublic Comment   \nCloseout & Next Steps   \n\nThe City of Portland and Prosper Portland are committed to providing meaningful access.    \nTo request translation\, interpretation\, modifications\, accommodations\, childcare\, or other auxiliary aids or services\, contact eastportlandtif@prosperportland.us.  \nQuestions regarding East 205 TIF: Anielis Raas at raasa@prosperportland.us\, Raul Preciado Mendez at raul.preciadomendez@portlandoregon.gov    \nGeneral East Portland TIF: EastPortlandTIF@prosperportland.us   
URL:https://prosperportland.us/event/east-205-clc-bylaws-subcommittee-2/
LOCATION:Prosper Portland & Zoom
CATEGORIES:East 205 TIF District,Event
ATTACH;FMTTYPE=image/jpeg:https://prosperportland.us/wp-content/uploads/2025/07/East-205-Division-Center.jpg
END:VEVENT
END:VCALENDAR